BEGIN:VCALENDAR
VERSION:2.0
PRODID:SFPL Web Calendar
BEGIN:VEVENT
UID:61009@sfpl.org
DTSTAMP:20230723T210000Z
DTSTART:20230723T210000Z
DTEND:20230723T230000Z
SUMMARY:Activity: YELL Presents Gameshow Games
DESCRIPTION:<p>Join us for mini games. Jeopardy, name the price and a scavenger hunt. Learn new things and earn prizes after each game.&nbsp;</p>

<p>Our Youth Engaged in Library Leadership (YELL) interns have been working hard all summer to prepare a community event. Come and support your local high school teens<strong>.</strong></p>
LOCATION:North Beach - North Beach General Floor Area
CLASS:PUBLIC
TRANSP:TRANSPARENT
END:VEVENT
BEGIN:VALARM
TRIGGER:-PT1440M
ACTION:DISPLAY
DESCRIPTION:Event Reminder - Activity: YELL Presents Gameshow Games
END:VALARM
END:VCALENDAR