BEGIN:VCALENDAR
VERSION:2.0
PRODID:SFPL Web Calendar
BEGIN:VEVENT
UID:61025@sfpl.org
DTSTAMP:20230722T220000Z
DTSTART:20230722T220000Z
DTEND:20230722T230000Z
SUMMARY:Performance: The Fratello Marionettes
DESCRIPTION:<p>The Fratello Marionettes present <em>Jack and the Beanstalk.</em> A mysterious peddler trades Jack five magic beans for his cow Buttercup, leading to a huge beanstalk growing up into the sky. Jack climbs the beanstalk and discovers a grumpy giant living in a castle in the clouds.</p>
LOCATION:Ortega - Ortega Meeting Room
CLASS:PUBLIC
TRANSP:TRANSPARENT
END:VEVENT
BEGIN:VALARM
TRIGGER:-PT1440M
ACTION:DISPLAY
DESCRIPTION:Event Reminder - Performance: The Fratello Marionettes
END:VALARM
END:VCALENDAR