BEGIN:VCALENDAR
VERSION:2.0
PRODID:SFPL Web Calendar
BEGIN:VEVENT
UID:61117@sfpl.org
DTSTAMP:20230724T233000Z
DTSTART:20230724T233000Z
DTEND:20230725T003000Z
SUMMARY:Activity: Tween Graphic Novel Club
DESCRIPTION:<p>Talk about recent graphic novels with fellow comics fans.&nbsp;Come for&nbsp;low-key discussion even if you haven't finished the book.</p>

<p>Our July title is<em>&nbsp;<a href="https://sfpl.bibliocommons.com/v2/record/S93C3850912">Stargazing</a></em><a href="https://sfpl.bibliocommons.com/v2/record/S93C3850912"> by Jen Wang</a>. We'll&nbsp;have copies on hold&nbsp;at Glen Park for you to pick up in advance, or <a href="https://sfpl.bibliocommons.com/v2/record/S93C3891812">find an eBook version through Axis 360</a>. Snacks provided. For ages 11-14.</p>

<p>&nbsp;</p>
LOCATION:Glen Park - Glen Park Meeting Room
CLASS:PUBLIC
TRANSP:TRANSPARENT
END:VEVENT
BEGIN:VALARM
TRIGGER:-PT1440M
ACTION:DISPLAY
DESCRIPTION:Event Reminder - Activity: Tween Graphic Novel Club
END:VALARM
END:VCALENDAR