BEGIN:VCALENDAR
VERSION:2.0
PRODID:SFPL Web Calendar
BEGIN:VEVENT
UID:61157@sfpl.org
DTSTAMP:20230727T180000Z
DTSTART:20230727T180000Z
DTEND:20230727T193000Z
SUMMARY:Activity: KEVA Contraptions Free Play
DESCRIPTION:<p>Create ball runs with ramps, funnels, jumps and more using simple wooden planks.</p>
LOCATION:Eureka Valley/Harvey Milk Memorial - Eureka Valley Children's Area
CLASS:PUBLIC
TRANSP:TRANSPARENT
END:VEVENT
BEGIN:VALARM
TRIGGER:-PT1440M
ACTION:DISPLAY
DESCRIPTION:Event Reminder - Activity: KEVA Contraptions Free Play
END:VALARM
END:VCALENDAR