BEGIN:VCALENDAR
VERSION:2.0
PRODID:SFPL Web Calendar
BEGIN:VEVENT
UID:61159@sfpl.org
DTSTAMP:20230722T210000Z
DTSTART:20230722T210000Z
DTEND:20230722T223000Z
SUMMARY:Workshop: Super Squishy Soap Dough
DESCRIPTION:<p>Have fun creating a soap dough with corn starch, liquid soap&nbsp;and food coloring. For ages 5 and older.</p>

<p>Space limited. Reservations required: (415) 355-5757.</p>
LOCATION:Bayview/Linda Brooks-Burton - Bayview Meeting Room
CLASS:PUBLIC
TRANSP:TRANSPARENT
END:VEVENT
BEGIN:VALARM
TRIGGER:-PT1440M
ACTION:DISPLAY
DESCRIPTION:Event Reminder - Workshop: Super Squishy Soap Dough
END:VALARM
END:VCALENDAR