BEGIN:VCALENDAR
VERSION:2.0
PRODID:SFPL Web Calendar
BEGIN:VEVENT
UID:61231@sfpl.org
DTSTAMP:20230729T210000Z
DTSTART:20230729T210000Z
DTEND:20230729T230000Z
SUMMARY:Workshop: Make a Bullet Journal
DESCRIPTION:<p>Learn how to create your own bullet journal using new and upcycled&nbsp;materials. For ages 10 and older.</p>
LOCATION:Marina - Marina General Floor Area
CLASS:PUBLIC
TRANSP:TRANSPARENT
END:VEVENT
BEGIN:VALARM
TRIGGER:-PT1440M
ACTION:DISPLAY
DESCRIPTION:Event Reminder - Workshop: Make a Bullet Journal
END:VALARM
END:VCALENDAR