BEGIN:VCALENDAR
VERSION:2.0
PRODID:SFPL Web Calendar
BEGIN:VEVENT
UID:61251@sfpl.org
DTSTAMP:20230730T203000Z
DTSTART:20230730T203000Z
DTEND:20230730T223000Z
SUMMARY:Activity: YELL Presents Piñata making
DESCRIPTION:<p>Learn about the tradition of pi&ntilde;ata making. Make your own pi&ntilde;ata.</p>

<p>Our Youth Engaged in Library Leadership (YELL) interns will be leading this&nbsp;event among our activities during Sunday Streets outside the library.</p>

<p>Conoce la tradici&oacute;n de hacer pi&ntilde;atas. Elabora tu propia pi&ntilde;ata.</p>

<p>Nuestros j&oacute;venes de Youth Engaged in Library Leadership (YELL) dirigir&aacute;n este evento junto a nuestras actividades durante Sunday Streets fuera de la biblioteca.</p>
LOCATION:Mission - Mission General Floor Area
CLASS:PUBLIC
TRANSP:TRANSPARENT
END:VEVENT
BEGIN:VALARM
TRIGGER:-PT1440M
ACTION:DISPLAY
DESCRIPTION:Event Reminder - Activity: YELL Presents Piñata making
END:VALARM
END:VCALENDAR