BEGIN:VCALENDAR
VERSION:2.0
PRODID:SFPL Web Calendar
BEGIN:VEVENT
UID:61315@sfpl.org
DTSTAMP:20230802T180000Z
DTSTART:20230802T180000Z
DTEND:20230802T184500Z
SUMMARY:Activity: Crayon Rubbing
DESCRIPTION:<p>Rub a crayon over textured plates and create a beautiful piece of art. For ages 3&ndash;5. Space limited. Reservation required: (415) 355-2889.</p>
LOCATION:Chinatown/Him Mark Lai - Chinatown Meeting Room
CLASS:PUBLIC
TRANSP:TRANSPARENT
END:VEVENT
BEGIN:VALARM
TRIGGER:-PT1440M
ACTION:DISPLAY
DESCRIPTION:Event Reminder - Activity: Crayon Rubbing
END:VALARM
END:VCALENDAR