BEGIN:VCALENDAR
VERSION:2.0
PRODID:SFPL Web Calendar
BEGIN:VEVENT
UID:61333@sfpl.org
DTSTAMP:20230729T210000Z
DTSTART:20230729T210000Z
DTEND:20230729T220000Z
SUMMARY:Workshop: Sticker Palooza
DESCRIPTION:<p>Creative fun with stickers&nbsp;of all shapes, sizes&nbsp;and characters. Stickers will be provided along with a&nbsp;blank notebook to write a story. For ages 3 and older.&nbsp;</p>
LOCATION:Bayview/Linda Brooks-Burton - Bayview Meeting Room
CLASS:PUBLIC
TRANSP:TRANSPARENT
END:VEVENT
BEGIN:VALARM
TRIGGER:-PT1440M
ACTION:DISPLAY
DESCRIPTION:Event Reminder - Workshop: Sticker Palooza
END:VALARM
END:VCALENDAR