BEGIN:VCALENDAR
VERSION:2.0
PRODID:SFPL Web Calendar
BEGIN:VEVENT
UID:61444@sfpl.org
DTSTAMP:20230722T220000Z
DTSTART:20230722T220000Z
DTEND:20230722T233000Z
SUMMARY:Workshop: Learn Basic Mandarin and Chinese Culture
DESCRIPTION:<p>Learn the basics of Mandarin with teachers from the Taiwan Center for Mandarin Learning - Chinese Cultural Learning Center. A series of six weekly classes for elementary-school-aged children. Registration required: 415-557-4554.</p>
LOCATION:Main Library - Children's Creative Center - 2nd Fl
CLASS:PUBLIC
TRANSP:TRANSPARENT
END:VEVENT
BEGIN:VALARM
TRIGGER:-PT1440M
ACTION:DISPLAY
DESCRIPTION:Event Reminder - Workshop: Learn Basic Mandarin and Chinese Culture
END:VALARM
END:VCALENDAR