BEGIN:VCALENDAR
VERSION:2.0
PRODID:SFPL Web Calendar
BEGIN:VEVENT
UID:61611@sfpl.org
DTSTAMP:20230730T210000Z
DTSTART:20230730T210000Z
DTEND:20230730T220000Z
SUMMARY:Book Club: For 4th and 5th graders, Jasmine Warga's A Rover's Story
DESCRIPTION:<p>Discussing Jasmine Warga's <em><a href="https://sfpl.bibliocommons.com/v2/record/S93C5477983">A Rover's Story</a></em>, about the journey of a fictional Mars rover. For ages 9<strong>&ndash;</strong>12.</p>
LOCATION:Merced - Merced General Floor Area
CLASS:PUBLIC
TRANSP:TRANSPARENT
END:VEVENT
BEGIN:VALARM
TRIGGER:-PT1440M
ACTION:DISPLAY
DESCRIPTION:Event Reminder - Book Club: For 4th and 5th graders, Jasmine Warga's A Rover's Story
END:VALARM
END:VCALENDAR