BEGIN:VCALENDAR
VERSION:2.0
PRODID:SFPL Web Calendar
BEGIN:VEVENT
UID:61652@sfpl.org
DTSTAMP:20230612T213000Z
DTSTART:20230612T213000Z
DTEND:20230612T221500Z
SUMMARY:Performance: Alphabet Rockers
DESCRIPTION:<p>Alphabet Rockers make music that makes change. This intergenerational and Grammy award winning group creates brave spaces to shape a more equitable world through hip hop. Their albums inspire kids and families to stand up to hate and be their brave and beautiful selves.</p>

<p>For children and their families.</p>
LOCATION:Visitacion Valley - Visitacion Valley Meeting Room
CLASS:PUBLIC
TRANSP:TRANSPARENT
END:VEVENT
BEGIN:VALARM
TRIGGER:-PT1440M
ACTION:DISPLAY
DESCRIPTION:Event Reminder - Performance: Alphabet Rockers
END:VALARM
END:VCALENDAR