BEGIN:VCALENDAR
VERSION:2.0
PRODID:SFPL Web Calendar
BEGIN:VEVENT
UID:62383@sfpl.org
DTSTAMP:20230725T190000Z
DTSTART:20230725T190000Z
DTEND:20230725T203000Z
SUMMARY:Workshop: Foldscopes
DESCRIPTION:<p>Build a Foldscope to learn about plant cells. Foldscopes aim to make science more accessible by creating an affordable paper microscope.</p>

<p>Learn&nbsp;science with the CardinalBotics team from Lowell High School.</p>

<p>For ages 10 and older. Space limited. Registration required: (415) 355-5757.</p>
LOCATION:Bayview/Linda Brooks-Burton - Bayview Meeting Room
CLASS:PUBLIC
TRANSP:TRANSPARENT
END:VEVENT
BEGIN:VALARM
TRIGGER:-PT1440M
ACTION:DISPLAY
DESCRIPTION:Event Reminder - Workshop: Foldscopes
END:VALARM
END:VCALENDAR