BEGIN:VCALENDAR
VERSION:2.0
PRODID:SFPL Web Calendar
BEGIN:VEVENT
UID:62444@sfpl.org
DTSTAMP:20230729T210000Z
DTSTART:20230729T210000Z
DTEND:20230729T223000Z
SUMMARY:Workshop: Natural Body Scrub
DESCRIPTION:<p>Join celebrated author&nbsp;KJ&nbsp;Landis&nbsp;as she shares the history and benefits of all natural body scrubs, using olive oil, shea butter, coconut oil&nbsp;and essential oils. Participants make their own healing body scrubs to take home.&nbsp;&nbsp;</p>

<p>Connect:&nbsp;<a href="https://www.superiorselfwithkjlandis.com/blog">Superior Self with KJ Landis - Blog&nbsp;</a>|&nbsp;<a href="https://www.instagram.com/superiorself/">Superior Self with KJ Landis - Instagram</a>&nbsp;|&nbsp;<a href="https://www.facebook.com/Superiorself">Superior Self with KJ Landis - Facebook</a></p>
LOCATION:West Portal - West Portal Children's Area
CLASS:PUBLIC
TRANSP:TRANSPARENT
END:VEVENT
BEGIN:VALARM
TRIGGER:-PT1440M
ACTION:DISPLAY
DESCRIPTION:Event Reminder - Workshop: Natural Body Scrub
END:VALARM
END:VCALENDAR