BEGIN:VCALENDAR
VERSION:2.0
PRODID:SFPL Web Calendar
BEGIN:VEVENT
UID:62471@sfpl.org
DTSTAMP:20231006T010000Z
DTSTART:20231006T010000Z
DTEND:20231006T023000Z
SUMMARY:Book Club: World Literature, Juan Goytisolo's "Marks of Identity"
DESCRIPTION:<h6><strong>NOTE: This event has been cancelled due to unforeseen circumstances. We will update if a new meeting date becomes possible. Thank you for your understanding.</strong></h6><p>We discuss <a href="https://sfpl.bibliocommons.com/v2/record/S93C1370525"><em>Marks of Identity</em></a>, a novel set in Franco's Spain by the Spanish author <a href="https://sfpl.bibliocommons.com/v2/search?query=Goytisolo%2C%20Juan&amp;searchType=author">Juan Goytisolo</a>.</p><p><a href="https://sfpl.bibliocommons.com/list/share/377327687_sfpl_johns/572513107_world_literature_book_club"><strong>World Literature Book Club reading list</strong></a></p>
LOCATION:Virtual Library
CLASS:PUBLIC
TRANSP:TRANSPARENT
END:VEVENT
BEGIN:VALARM
TRIGGER:-PT1440M
ACTION:DISPLAY
DESCRIPTION:Event Reminder - Book Club: World Literature, Juan Goytisolo's "Marks of Identity"
END:VALARM
END:VCALENDAR