BEGIN:VCALENDAR
VERSION:2.0
PRODID:SFPL Web Calendar
BEGIN:VEVENT
UID:62807@sfpl.org
DTSTAMP:20230511T230000Z
DTSTART:20230511T230000Z
DTEND:20230512T003000Z
SUMMARY:Activity: LEGO
DESCRIPTION:<p>Use your imagination to create anything you like! Free play LEGO!&nbsp;</p>
LOCATION:Ingleside - Ingleside Children's Area
CLASS:PUBLIC
TRANSP:TRANSPARENT
END:VEVENT
BEGIN:VALARM
TRIGGER:-PT1440M
ACTION:DISPLAY
DESCRIPTION:Event Reminder - Activity: LEGO
END:VALARM
END:VCALENDAR