BEGIN:VCALENDAR
VERSION:2.0
PRODID:SFPL Web Calendar
BEGIN:VEVENT
UID:63095@sfpl.org
DTSTAMP:20230701T210000Z
DTSTART:20230701T210000Z
DTEND:20230701T220000Z
SUMMARY:Performance: Echo's Bones, Woodwind Trio
DESCRIPTION:<p><a href="https://echosbones.bandcamp.com">Echo's Bones</a> woodwind trio plays avant-pastoral improvised music that develops from the combined timbres of three different acoustic woodwind instruments blending, diverging and conversing and incorporates numerous musical traditions in free improvisational performances.</p>

<p><a href="https://amberlamprecht.com/">Amber Lamprecht</a> plays oboe and English horn, with performance credits that range from Mark Eitzel to the San Luis Obispo Symphony Orchestra and many others. She also has a career as a literacy and education consultant.</p>

<p><a href="https://sheldonbrownmusic.com/">Sheldon Brown</a>, clarinet and bass clarinet, has performed with Club Foot Orchestra, Anthony Braxton and many others, and presently tours with Bob Weir of the Grateful Dead.</p>

<p><a href="https://www.josephnoble.info/">Joseph Noble</a> on flute, including alto and bass flute, has performed with the groups Cloud Shepherd, Ouroboros, Chamber Cloud and others, and is also the author of three books of poetry.</p>

<p>&nbsp;</p>

<p>&nbsp;</p>
LOCATION:Richmond/Senator Milton Marks - Richmond Meeting Room
CLASS:PUBLIC
TRANSP:TRANSPARENT
END:VEVENT
BEGIN:VALARM
TRIGGER:-PT1440M
ACTION:DISPLAY
DESCRIPTION:Event Reminder - Performance: Echo's Bones, Woodwind Trio
END:VALARM
END:VCALENDAR