BEGIN:VCALENDAR
VERSION:2.0
PRODID:SFPL Web Calendar
BEGIN:VEVENT
UID:64062@sfpl.org
DTSTAMP:20230723T223000Z
DTSTART:20230723T223000Z
DTEND:20230723T233000Z
SUMMARY:Book Club: Somewhere in Time Historical Fiction
DESCRIPTION:<p>If you enjoy some history in your fiction, spend an hour hashing out the details of&mdash;and the history behind&mdash;this month&rsquo;s selection. Allende invites readers to join her heroine Eliza,&nbsp;a young Chilean woman, in her&nbsp;search not for wealth but for love during California&rsquo;s Gold Rush era.</p>

<p><strong>This is a hybrid event. Registration is required for Zoom attendance. In-person attendance does not require registration.</strong></p>
LOCATION:Eureka Valley/Harvey Milk Memorial - Eureka Valley General Floor Area
CLASS:PUBLIC
TRANSP:TRANSPARENT
END:VEVENT
BEGIN:VALARM
TRIGGER:-PT1440M
ACTION:DISPLAY
DESCRIPTION:Event Reminder - Book Club: Somewhere in Time Historical Fiction
END:VALARM
END:VCALENDAR