BEGIN:VCALENDAR
VERSION:2.0
PRODID:SFPL Web Calendar
BEGIN:VEVENT
UID:64955@sfpl.org
DTSTAMP:20231026T010000Z
DTSTART:20231026T010000Z
DTEND:20231026T023000Z
SUMMARY:Panel: What Does it Mean to Create Home?
DESCRIPTION:<p>Listen to part one&nbsp;of the <strong>We Are Home: Tenderloin Community Quilt Project</strong> panel series, which will&nbsp;dive into an expansive discussion of the socio-emotional impact of place making, community building&nbsp;and home making. The panel will highlight&nbsp;perspectives of people with lived experience being unhoused or homeless and those who are community/home builders, and ask how these perspectives mobilize us towards making meaningful change.&nbsp;</p>

<p>&nbsp;</p>

<p>From&nbsp;Fall 2022 to&nbsp;Spring 2023, the &lsquo;project hosted workshops throughout the Tenderloin. Individuals participated in creating unique quilt square panels to contribute to what will be a greater Tenderloin Community Quilt, which will be completed by Fall 2023. The workshops have engaged Delivering Innovation to Supportive Housing - San Francisco&nbsp;(DISH SF) permanent supportive housing residents, the Hospitality House Community Arts Program&nbsp;and Tenderloin Museum.</p>

<p>&nbsp;</p>

<p>The<strong> We Are Home: Tenderloin Community Quilt Project</strong> is focused on amplifying the voices of people who have the lived experience of homelessness, and those that care for or live and work in community with unhoused neighbors.&nbsp;The panel series aims to expand&nbsp;the conversation with&nbsp;extended community and offer an opportunity&nbsp;for meaningful&nbsp;engagement and reflection.&nbsp;<strong>We Are Home: Tenderloin Community Quilt Project&nbsp;</strong>was created with support of California Humanities, Humanities for All Grant awarded Summer 2022.</p>

<p>&nbsp;</p>

<p>Connect:</p>

<p><a href="https://dishsf.org/">Delivering Innovation in Supportive Housing, San Francisco - Website</a>&nbsp;|&nbsp;<a href="https://www.instagram.com/dishinsf/">Delivering Innovation to Supportive Housing, San Francisco&nbsp;- Instagram</a>&nbsp;</p>

<p>&nbsp;</p>
LOCATION:Main Library - Latino/Hispanic Meeting Room A
CLASS:PUBLIC
TRANSP:TRANSPARENT
END:VEVENT
BEGIN:VALARM
TRIGGER:-PT1440M
ACTION:DISPLAY
DESCRIPTION:Event Reminder - Panel: What Does it Mean to Create Home?
END:VALARM
END:VCALENDAR