BEGIN:VCALENDAR
VERSION:2.0
PRODID:SFPL Web Calendar
BEGIN:VEVENT
UID:65557@sfpl.org
DTSTAMP:20230621T190000Z
DTSTART:20230621T190000Z
DTEND:20230621T200000Z
SUMMARY:Performance: Make Music Day with Purple Glaze
DESCRIPTION:<p>Celebrate international <a href="https://www.makemusicday.org/sanfrancisco/">Make Music Day</a> with a special performance on the Main Library's Fulton Street featuring the Hardly Strictly Bluegrass house band,&nbsp;Purple Glaze.</p>

<p>Purple Glaze is a&nbsp;Bay Area-based acoustic Americana band showcasing original songs and traditional roots music.</p>

<p>Members include:</p>

<p>Katie Gibbs - vocals<br />
Tricia Hellman-Gibbs - vocals, guitar<br />
Frank Gibbs - mandolin, Guitar<br />
Joshua Zucker - bass, vocals<br />
Barbara Higby - mandolin, Fiddle<br />
Eric Pearson - banjo, Guitar<br />
Anne Schrager - accordion, vocals</p>

<p><a href="https://www.instagram.com/purpleglazeband/">Purple Haze - Instagram</a> / <a href="https://www.facebook.com/purpleglazeband/">Purple Haze - Facebook</a> / <a href="https://www.youtube.com/channel/UCph7jJM8EsV1ai8WzOcqWKg">Purple Haze - YouTube</a></p>

<p>Make Music Day&nbsp;San Francisco is a live, free musical celebration on June 21, the longest day of the year, with concerts on streets, sidewalks, and parks across the city.</p>

<p><br />
&nbsp;</p>
LOCATION:Main Library - Fulton Street Steps
CLASS:PUBLIC
TRANSP:TRANSPARENT
END:VEVENT
BEGIN:VALARM
TRIGGER:-PT1440M
ACTION:DISPLAY
DESCRIPTION:Event Reminder - Performance: Make Music Day with Purple Glaze
END:VALARM
END:VCALENDAR