BEGIN:VCALENDAR
VERSION:2.0
PRODID:SFPL Web Calendar
BEGIN:VEVENT
UID:66616@sfpl.org
DTSTAMP:20231214T233000Z
DTSTART:20231214T233000Z
DTEND:20231215T003000Z
SUMMARY:Workshop: Library Ranger - Trees
DESCRIPTION:<p>Learn all about trees and their life cycle with the&nbsp;staff from the&nbsp;California State Parks Candlestick Point.&nbsp;We'll have an hour of fun as we read a story,&nbsp;do an activity, and make a craft.</p>

<p>For more information, contact the Candlestick Point team at&nbsp;<a href="mailto:candlestick@ports-ca.us">candlestick@ports-ca.us</a>&nbsp;or (415) 822-8033.</p>
LOCATION:Bayview/Linda Brooks-Burton - Bayview Meeting Room
CLASS:PUBLIC
TRANSP:TRANSPARENT
END:VEVENT
BEGIN:VALARM
TRIGGER:-PT1440M
ACTION:DISPLAY
DESCRIPTION:Event Reminder - Workshop: Library Ranger - Trees
END:VALARM
END:VCALENDAR