BEGIN:VCALENDAR
VERSION:2.0
PRODID:SFPL Web Calendar
BEGIN:VEVENT
UID:67647@sfpl.org
DTSTAMP:20231216T220000Z
DTSTART:20231216T220000Z
DTEND:20231216T223000Z
SUMMARY:Storytime: For Families, Jacob Lawrence and the Great Migration
DESCRIPTION:<p>Enjoy a deeper view of history in this week's Family Storytime, when we explore and celebrate the art of Jacob Lawrence and his portrayal of one of the most pivotal events in American history, the Great Migration. We'll read picture books and hear stories&nbsp;about people who experienced the Great Migration of African Americans from&nbsp;the oppressions of the South to seek better lives in the North and out West - including California. After the story program, we'll do a simple craft based on Lawrence's art. Craft activity participation is limited to the first 20 patrons.&nbsp;</p>
LOCATION:Main Library - Children's Storytelling Room - 2nd Fl
CLASS:PUBLIC
TRANSP:TRANSPARENT
END:VEVENT
BEGIN:VALARM
TRIGGER:-PT1440M
ACTION:DISPLAY
DESCRIPTION:Event Reminder - Storytime: For Families, Jacob Lawrence and the Great Migration
END:VALARM
END:VCALENDAR