BEGIN:VCALENDAR
VERSION:2.0
PRODID:SFPL Web Calendar
BEGIN:VEVENT
UID:67938@sfpl.org
DTSTAMP:20231007T180000Z
DTSTART:20231007T180000Z
DTEND:20231007T191500Z
SUMMARY:Performance: Very First Concerts
DESCRIPTION:<p>Explore the wonderful world of music with performers from the San Francisco Chamber Orchestra. For children and their families.</p>

<p>&nbsp;</p>
LOCATION:Main Library - Children's Storytelling Room - 2nd Fl
CLASS:PUBLIC
TRANSP:TRANSPARENT
END:VEVENT
BEGIN:VALARM
TRIGGER:-PT1440M
ACTION:DISPLAY
DESCRIPTION:Event Reminder - Performance: Very First Concerts
END:VALARM
END:VCALENDAR