BEGIN:VCALENDAR
VERSION:2.0
PRODID:SFPL Web Calendar
BEGIN:VEVENT
UID:68686@sfpl.org
DTSTAMP:20231231T210000Z
DTSTART:20231231T210000Z
DTEND:20231231T230000Z
SUMMARY:Activity: Color Your Cares Away with Winter-Themed Bookmarks
DESCRIPTION:<p>Relax and unwind with coloring and calm&nbsp;music. We will provide colored pencils, markers and&nbsp;a variety of things to color, including Winter-themed bookmarks. People can color on their own or work together on our huge coloring poster. The poster is six feet long and will be displayed in our branch when it is completed.&nbsp;</p>
LOCATION:Bernal Heights - Bernal Heights Meeting Room
CLASS:PUBLIC
TRANSP:TRANSPARENT
END:VEVENT
BEGIN:VALARM
TRIGGER:-PT1440M
ACTION:DISPLAY
DESCRIPTION:Event Reminder - Activity: Color Your Cares Away with Winter-Themed Bookmarks
END:VALARM
END:VCALENDAR