BEGIN:VCALENDAR
VERSION:2.0
PRODID:SFPL Web Calendar
BEGIN:VEVENT
UID:68865@sfpl.org
DTSTAMP:20231005T220000Z
DTSTART:20231005T220000Z
DTEND:20231006T000000Z
SUMMARY:Services: Office Hours with SF Community Living Campaign (CLC) 
DESCRIPTION:<p>Strengthen your knowledge about emergency preparedness, create a disaster evacuation plan and&nbsp;download MyShake app for earthquake alerts. Assistance available in Cantonese and Mandarin.&nbsp;&nbsp;&nbsp;&nbsp; &nbsp;<br />
提高您在應急準備與災害撤離計劃的知識，下載MyShake應用以接收地震警報。提供粵語與國語協助。&nbsp; &nbsp; &nbsp;</p>
LOCATION:Chinatown/Him Mark Lai - Chinatown General Floor Area
CLASS:PUBLIC
TRANSP:TRANSPARENT
END:VEVENT
BEGIN:VALARM
TRIGGER:-PT1440M
ACTION:DISPLAY
DESCRIPTION:Event Reminder - Services: Office Hours with SF Community Living Campaign (CLC) 
END:VALARM
END:VCALENDAR