BEGIN:VCALENDAR
VERSION:2.0
PRODID:SFPL Web Calendar
BEGIN:VEVENT
UID:69034@sfpl.org
DTSTAMP:20231007T173000Z
DTSTART:20231007T173000Z
DTEND:20231007T190000Z
SUMMARY:Activity: North Beach Walking Tour (FULL)
DESCRIPTION:<p>Join us for a 1.5-hour walking tour of the North Beach neighborhood with the&nbsp;<strong><a href="https://sfcityguides.org/">San Francisco City Guides</a>.&nbsp;</strong>Learn about the food, culture and history of San Francisco&rsquo;s Little Italy, where early immigrants in the 1910s established the authentic Italian character that remains its defining quality. Discover famous landmarks, buildings and spectacular view of downtown and the unique charm of this vibrant neighborhood. Tour&nbsp; guide: Barbara Cannella.&nbsp;Meet at the North Beach Branch Library. The tour will start at 10:30 a.m. sharp and end at noon for those who signed up.&nbsp;</p>

<p><strong>The tour is FULL</strong>.&nbsp;we're unable to take any reservation.&nbsp;Space is limited to 25 people only. No last minute walk-ups.&nbsp;&nbsp;</p>
LOCATION:North Beach
CLASS:PUBLIC
TRANSP:TRANSPARENT
END:VEVENT
BEGIN:VALARM
TRIGGER:-PT1440M
ACTION:DISPLAY
DESCRIPTION:Event Reminder - Activity: North Beach Walking Tour (FULL)
END:VALARM
END:VCALENDAR