BEGIN:VCALENDAR
VERSION:2.0
PRODID:SFPL Web Calendar
BEGIN:VEVENT
UID:69693@sfpl.org
DTSTAMP:20231005T230000Z
DTSTART:20231005T230000Z
DTEND:20231006T000000Z
SUMMARY:Workshop: Dear Banned Author
DESCRIPTION:<p>Write a letter or a postcard to your favorite banned and challenged authors, sharing how their words have impacted you.</p>
LOCATION:Portola - Portola Meeting Room
CLASS:PUBLIC
TRANSP:TRANSPARENT
END:VEVENT
BEGIN:VALARM
TRIGGER:-PT1440M
ACTION:DISPLAY
DESCRIPTION:Event Reminder - Workshop: Dear Banned Author
END:VALARM
END:VCALENDAR