BEGIN:VCALENDAR
VERSION:2.0
PRODID:SFPL Web Calendar
BEGIN:VEVENT
UID:69865@sfpl.org
DTSTAMP:20231012T010000Z
DTSTART:20231012T010000Z
DTEND:20231012T020000Z
SUMMARY:Workshop: Native American Beading
DESCRIPTION:<p>Instructor&nbsp;Kalorie&nbsp;Roanhorse, an expert in Native American beading and owner of Navajo Dream&rsquo;s Authentic Handmade Jewelry,&nbsp;teaches&nbsp;the basics of jewelry design and beading.&nbsp;&nbsp;</p>

<p>Space limited. Reservations required:&nbsp;(415) 355-5707 or email nvamgr@sfpl.org</p>
LOCATION:Noe Valley/Sally Brunn - Noe Valley Meeting Room
CLASS:PUBLIC
TRANSP:TRANSPARENT
END:VEVENT
BEGIN:VALARM
TRIGGER:-PT1440M
ACTION:DISPLAY
DESCRIPTION:Event Reminder - Workshop: Native American Beading
END:VALARM
END:VCALENDAR