BEGIN:VCALENDAR
VERSION:2.0
PRODID:SFPL Web Calendar
BEGIN:VEVENT
UID:70496@sfpl.org
DTSTAMP:20231005T230000Z
DTSTART:20231005T230000Z
DTEND:20231006T010000Z
SUMMARY:Social: Filipino Snack Trials
DESCRIPTION:<p>Learn about Filipino culture while sampling snacks and rating your favorites.</p>
LOCATION:Marina - Marina Children's Area
CLASS:PUBLIC
TRANSP:TRANSPARENT
END:VEVENT
BEGIN:VALARM
TRIGGER:-PT1440M
ACTION:DISPLAY
DESCRIPTION:Event Reminder - Social: Filipino Snack Trials
END:VALARM
END:VCALENDAR