BEGIN:VCALENDAR
VERSION:2.0
PRODID:SFPL Web Calendar
BEGIN:VEVENT
UID:70801@sfpl.org
DTSTAMP:20231012T233000Z
DTSTART:20231012T233000Z
DTEND:20231013T003000Z
SUMMARY:Activity: Mini Pabitin
DESCRIPTION:<p>Learn about&nbsp;Filipino culture by crafting a mini-pabitin. A pabitin is a popular Filipino party game where treats, toys, and money are suspended from a wooden hanging. For children and their families.</p>
LOCATION:Ingleside - Ingleside Meeting Room
CLASS:PUBLIC
TRANSP:TRANSPARENT
END:VEVENT
BEGIN:VALARM
TRIGGER:-PT1440M
ACTION:DISPLAY
DESCRIPTION:Event Reminder - Activity: Mini Pabitin
END:VALARM
END:VCALENDAR