BEGIN:VCALENDAR
VERSION:2.0
PRODID:SFPL Web Calendar
BEGIN:VEVENT
UID:71381@sfpl.org
DTSTAMP:20231214T210000Z
DTSTART:20231214T210000Z
DTEND:20231214T230000Z
SUMMARY:Workshop: Paper Ornaments
DESCRIPTION:<p>Create a festive paper ornament.&nbsp;</p>

<p>Space limited. Reservations required: (415) 355-5700.</p>
LOCATION:Ortega - Ortega Meeting Room
CLASS:PUBLIC
TRANSP:TRANSPARENT
END:VEVENT
BEGIN:VALARM
TRIGGER:-PT1440M
ACTION:DISPLAY
DESCRIPTION:Event Reminder - Workshop: Paper Ornaments
END:VALARM
END:VCALENDAR