BEGIN:VCALENDAR
VERSION:2.0
PRODID:SFPL Web Calendar
BEGIN:VEVENT
UID:71652@sfpl.org
DTSTAMP:20231006T220000Z
DTSTART:20231006T220000Z
DTEND:20231006T230000Z
SUMMARY:Workshop: Halo-Halo
DESCRIPTION:<p>Learn about halo-halo ("mix-mix" in Tagalog),&nbsp;a&nbsp;Filipino-style shaved ice dessert.&nbsp;We will combine different toppings for an&nbsp;instant version of this sweet treat.&nbsp;</p>
LOCATION:Bayview/Linda Brooks-Burton - Bayview Meeting Room
CLASS:PUBLIC
TRANSP:TRANSPARENT
END:VEVENT
BEGIN:VALARM
TRIGGER:-PT1440M
ACTION:DISPLAY
DESCRIPTION:Event Reminder - Workshop: Halo-Halo
END:VALARM
END:VCALENDAR