BEGIN:VCALENDAR
VERSION:2.0
PRODID:SFPL Web Calendar
BEGIN:VEVENT
UID:71778@sfpl.org
DTSTAMP:20231007T180000Z
DTSTART:20231007T180000Z
DTEND:20231007T190000Z
SUMMARY:Workshop: Afro-Peruvian Family Dance Class with Cunamacué
DESCRIPTION:<p>This intergenerational dance class is an introduction to Afro-Peruvian culture. Participants will be introduced to Afro-Peruvian instruments with live music, and learn a dance routine for the Festejo, the most popular Afro-Peruvian rhythm.&nbsp;<a href="https://www.cunamacue.org/">https://www.cunamacue.org/</a></p>
LOCATION:Golden Gate Valley - Golden Gate Valley Meeting Room
CLASS:PUBLIC
TRANSP:TRANSPARENT
END:VEVENT
BEGIN:VALARM
TRIGGER:-PT1440M
ACTION:DISPLAY
DESCRIPTION:Event Reminder - Workshop: Afro-Peruvian Family Dance Class with Cunamacué
END:VALARM
END:VCALENDAR