BEGIN:VCALENDAR
VERSION:2.0
PRODID:SFPL Web Calendar
BEGIN:VEVENT
UID:72427@sfpl.org
DTSTAMP:20231220T013000Z
DTSTART:20231220T013000Z
DTEND:20231220T033000Z
SUMMARY:Film: Black Nativity
DESCRIPTION:<p>A Baltimore teen rebels against his religious New York relatives during Christmas, and returns home to his friends and single mother to learn an important lesson about faith. Space is limited.</p>

<p><br />
PG, 93 min., 2013. Closed captions (CC) in English.</p>
LOCATION:Potrero - Potrero Meeting Room
CLASS:PUBLIC
TRANSP:TRANSPARENT
END:VEVENT
BEGIN:VALARM
TRIGGER:-PT1440M
ACTION:DISPLAY
DESCRIPTION:Event Reminder - Film: Black Nativity
END:VALARM
END:VCALENDAR