BEGIN:VCALENDAR
VERSION:2.0
PRODID:SFPL Web Calendar
BEGIN:VEVENT
UID:74567@sfpl.org
DTSTAMP:20231229T233000Z
DTSTART:20231229T233000Z
DTEND:20231230T010000Z
SUMMARY:Activity: LittleBits(為青少年冬季閱讀活動節目)
DESCRIPTION:<p>Learn to code without a computer screen. Learn to use&nbsp;tiny programmable pieces that snap together.&nbsp;For ages 9&ndash;13. Space limited. Reservations required: (415)355-2888.</p>

<p>學習在沒有電腦屏幕的情況下,應用並編碼可組合一起的微小部件. 座位有限,請預先致電報名: (415)355-2888. 年齡為9歲至13歲.</p>
LOCATION:Chinatown/Him Mark Lai - Chinatown Meeting Room
CLASS:PUBLIC
TRANSP:TRANSPARENT
END:VEVENT
BEGIN:VALARM
TRIGGER:-PT1440M
ACTION:DISPLAY
DESCRIPTION:Event Reminder - Activity: LittleBits(為青少年冬季閱讀活動節目)
END:VALARM
END:VCALENDAR