BEGIN:VCALENDAR
VERSION:2.0
PRODID:SFPL Web Calendar
BEGIN:VEVENT
UID:75254@sfpl.org
DTSTAMP:20231216T210000Z
DTSTART:20231216T210000Z
DTEND:20231216T220000Z
SUMMARY:Activity: DIY Snow Globes
DESCRIPTION:<p>Create a customized snow globe sure to inspire holiday cheer. For children and their families.</p>
LOCATION:Main Library - Children's Creative Center - 2nd Fl
CLASS:PUBLIC
TRANSP:TRANSPARENT
END:VEVENT
BEGIN:VALARM
TRIGGER:-PT1440M
ACTION:DISPLAY
DESCRIPTION:Event Reminder - Activity: DIY Snow Globes
END:VALARM
END:VCALENDAR