BEGIN:VCALENDAR
VERSION:2.0
PRODID:SFPL Web Calendar
BEGIN:VEVENT
UID:75276@sfpl.org
DTSTAMP:20231222T233000Z
DTSTART:20231222T233000Z
DTEND:20231223T010000Z
SUMMARY:Activity: Holiday Puzzle Games 假日益智遊戲
DESCRIPTION:<p>De-stress with some fun holiday puzzle games, such as, word search game, find hidden object puzzle game, jigsaw puzzle game etc. and earn a chance to win a small prize. Space limited.&nbsp;Reservation required: (415)355-2888. For ages 10&ndash;18.</p>

<p>通過一些有趣的假日益智遊戲來紓緩壓力. 例如單詞搜尋遊戲, 尋找隱藏物體遊戲, 拼圖遊戲等. 有機會得到小獎品.名額有限, 請致電事先報名: (415)355-2888. 年齡為十歲至十八歲.&nbsp;</p>
LOCATION:Chinatown/Him Mark Lai - Chinatown Meeting Room
CLASS:PUBLIC
TRANSP:TRANSPARENT
END:VEVENT
BEGIN:VALARM
TRIGGER:-PT1440M
ACTION:DISPLAY
DESCRIPTION:Event Reminder - Activity: Holiday Puzzle Games 假日益智遊戲
END:VALARM
END:VCALENDAR