BEGIN:VCALENDAR
VERSION:2.0
PRODID:SFPL Web Calendar
BEGIN:VEVENT
UID:75353@sfpl.org
DTSTAMP:20231213T230000Z
DTSTART:20231213T230000Z
DTEND:20231214T010000Z
SUMMARY:Workshop: Watercolor Tape Painting
DESCRIPTION:<p>Learn to watercolor paint with mask tape to create a stain-glass look artwork.&nbsp;</p>

<p>Space limited. Reservations required: (415) 355-5615.</p>
LOCATION:Ocean View - Ocean View Meeting Room
CLASS:PUBLIC
TRANSP:TRANSPARENT
END:VEVENT
BEGIN:VALARM
TRIGGER:-PT1440M
ACTION:DISPLAY
DESCRIPTION:Event Reminder - Workshop: Watercolor Tape Painting
END:VALARM
END:VCALENDAR