BEGIN:VCALENDAR
VERSION:2.0
PRODID:SFPL Web Calendar
BEGIN:VEVENT
UID:75485@sfpl.org
DTSTAMP:20231219T220000Z
DTSTART:20231219T220000Z
DTEND:20231220T000000Z
SUMMARY:Book Club: Bernal Readers
DESCRIPTION:<p>Join Bernal Readers for their monthly book club event.&nbsp;</p>
LOCATION:Bernal Heights - Bernal Heights Meeting Room
CLASS:PUBLIC
TRANSP:TRANSPARENT
END:VEVENT
BEGIN:VALARM
TRIGGER:-PT1440M
ACTION:DISPLAY
DESCRIPTION:Event Reminder - Book Club: Bernal Readers
END:VALARM
END:VCALENDAR