BEGIN:VCALENDAR
VERSION:2.0
PRODID:SFPL Web Calendar
BEGIN:VEVENT
UID:75602@sfpl.org
DTSTAMP:20231228T000000Z
DTSTART:20231228T000000Z
DTEND:20231228T010000Z
SUMMARY:Activity: Herbs for Self Care
DESCRIPTION:<p>Create your own herbal tea or scented sachet by combining healing herbs into a unique blend you can take home with you. For ages 12&ndash;18.&nbsp;All materials provided.</p>
LOCATION:Main Library - Mix: Maker -  2nd Fl
CLASS:PUBLIC
TRANSP:TRANSPARENT
END:VEVENT
BEGIN:VALARM
TRIGGER:-PT1440M
ACTION:DISPLAY
DESCRIPTION:Event Reminder - Activity: Herbs for Self Care
END:VALARM
END:VCALENDAR