BEGIN:VCALENDAR
VERSION:2.0
PRODID:SFPL Web Calendar
BEGIN:VEVENT
UID:75653@sfpl.org
DTSTAMP:20231213T230000Z
DTSTART:20231213T230000Z
DTEND:20231214T000000Z
SUMMARY:Activity: Scandinavian Paper Hearts
DESCRIPTION:<p>Weave paper into two-color hearts that look flat, but open into little baskets.&nbsp;For ages 9 and older.</p>
LOCATION:Sunset - Sunset Program Room
CLASS:PUBLIC
TRANSP:TRANSPARENT
END:VEVENT
BEGIN:VALARM
TRIGGER:-PT1440M
ACTION:DISPLAY
DESCRIPTION:Event Reminder - Activity: Scandinavian Paper Hearts
END:VALARM
END:VCALENDAR