BEGIN:VCALENDAR
VERSION:2.0
PRODID:SFPL Web Calendar
BEGIN:VEVENT
UID:75655@sfpl.org
DTSTAMP:20231226T220000Z
DTSTART:20231226T220000Z
DTEND:20231227T000000Z
SUMMARY:Activity: Big Bilder Forts
DESCRIPTION:<p>Build the structure of your dreams using the Big Bilder cardboard system.&nbsp;For ages 6 and older.</p>
LOCATION:Merced - Merced General Floor Area
CLASS:PUBLIC
TRANSP:TRANSPARENT
END:VEVENT
BEGIN:VALARM
TRIGGER:-PT1440M
ACTION:DISPLAY
DESCRIPTION:Event Reminder - Activity: Big Bilder Forts
END:VALARM
END:VCALENDAR