BEGIN:VCALENDAR
VERSION:2.0
PRODID:SFPL Web Calendar
BEGIN:VEVENT
UID:75680@sfpl.org
DTSTAMP:20231223T183000Z
DTSTART:20231223T183000Z
DTEND:20231223T203000Z
SUMMARY:Workshop: Toddler Made Wrapping Paper
DESCRIPTION:<p>Stamp with vegetables and other fun items on white and brown craft paper to make your own wrapping paper. Drop in anytime during this open playtime.</p>

<p>For ages 3&nbsp;and younger.</p>
LOCATION:Glen Park - Glen Park Meeting Room
CLASS:PUBLIC
TRANSP:TRANSPARENT
END:VEVENT
BEGIN:VALARM
TRIGGER:-PT1440M
ACTION:DISPLAY
DESCRIPTION:Event Reminder - Workshop: Toddler Made Wrapping Paper
END:VALARM
END:VCALENDAR