BEGIN:VCALENDAR
VERSION:2.0
PRODID:SFPL Web Calendar
BEGIN:VEVENT
UID:75682@sfpl.org
DTSTAMP:20231230T183000Z
DTSTART:20231230T183000Z
DTEND:20231230T203000Z
SUMMARY:Activity: Toddler Ball Pit
DESCRIPTION:<p>Jump and play with our mini-ball pit. We'll also have toddler toys and trucks available for a fun family playtime.&nbsp;Drop in anytime during this open playtime.</p>

<p>For ages 3&nbsp;and younger.</p>
LOCATION:Glen Park - Glen Park Meeting Room
CLASS:PUBLIC
TRANSP:TRANSPARENT
END:VEVENT
BEGIN:VALARM
TRIGGER:-PT1440M
ACTION:DISPLAY
DESCRIPTION:Event Reminder - Activity: Toddler Ball Pit
END:VALARM
END:VCALENDAR