BEGIN:VCALENDAR
VERSION:2.0
PRODID:SFPL Web Calendar
BEGIN:VEVENT
UID:75903@sfpl.org
DTSTAMP:20231220T000000Z
DTSTART:20231220T000000Z
DTEND:20231220T013000Z
SUMMARY:Activity: Penguin Softie
DESCRIPTION:<p>Create your own penguin softie&nbsp;with felt!&nbsp;</p>

<p>Space limited. Reservations required: (415) 355-2808</p>

<p>(Registration begins November 28th)</p>
LOCATION:Sunset - Sunset Program Room
CLASS:PUBLIC
TRANSP:TRANSPARENT
END:VEVENT
BEGIN:VALARM
TRIGGER:-PT1440M
ACTION:DISPLAY
DESCRIPTION:Event Reminder - Activity: Penguin Softie
END:VALARM
END:VCALENDAR