BEGIN:VCALENDAR
VERSION:2.0
PRODID:SFPL Web Calendar
BEGIN:VEVENT
UID:76040@sfpl.org
DTSTAMP:20240111T230000Z
DTSTART:20240111T230000Z
DTEND:20240112T003000Z
SUMMARY:Activity: Paint-by-Number
DESCRIPTION:<p>Create a unique painting on a numbered canvas. One kit per family.&nbsp;For ages 7 and older.&nbsp;Space limited. Reservations required: (415) 355-5615.</p>
LOCATION:Ocean View - Ocean View Meeting Room
CLASS:PUBLIC
TRANSP:TRANSPARENT
END:VEVENT
BEGIN:VALARM
TRIGGER:-PT1440M
ACTION:DISPLAY
DESCRIPTION:Event Reminder - Activity: Paint-by-Number
END:VALARM
END:VCALENDAR