BEGIN:VCALENDAR
VERSION:2.0
PRODID:SFPL Web Calendar
BEGIN:VEVENT
UID:76508@sfpl.org
DTSTAMP:20240106T220000Z
DTSTART:20240106T220000Z
DTEND:20240106T230000Z
SUMMARY:Presentation: SF Trash Talk
DESCRIPTION:<p>Are you tired of dirty streets and public spaces in San Francisco? Join the "SF Trash Talk" presented by Vince Yuen, founder of Refuse Refuse, a grassroots volunteer effort dedicated to trash-free neighborhoods. You'll learn about why our City is so dirty, potential solutions, and what you as an individual can do to help. The first 20 attendees will receive a trash picker, a set of orange trash bags and accessories&nbsp;to help beautify your neighborhood.</p>

<p>Connect:</p>

<p><a href="https://refuserefusesf.org">Website</a></p>
LOCATION:Presidio - Presidio Meeting Room
CLASS:PUBLIC
TRANSP:TRANSPARENT
END:VEVENT
BEGIN:VALARM
TRIGGER:-PT1440M
ACTION:DISPLAY
DESCRIPTION:Event Reminder - Presentation: SF Trash Talk
END:VALARM
END:VCALENDAR