BEGIN:VCALENDAR
VERSION:2.0
PRODID:SFPL Web Calendar
BEGIN:VEVENT
UID:77518@sfpl.org
DTSTAMP:20240102T234500Z
DTSTART:20240102T234500Z
DTEND:20240103T014500Z
SUMMARY:Social: Two-Hour Role-Playing Game
DESCRIPTION:<p>Play a whole role-playing game (RPG) in just a couple of hours with us using one-page RPGs.&nbsp;For ages 12&ndash;16.&nbsp;</p>

<p>Have you wanted to learn how to play role playing games but didn&rsquo;t know where to start? Do you enjoy the thrill of playing these tabletop games but not the commitment of multi-month campaigns? One-page RPGs are perfect for you! Learn the basics of role-playing games without having to learn too many rules or continuing a character from week to week.</p>

<p>This time we'll offer you a few different games we've played in the past and let the group decide which one they want to play.</p>
LOCATION:Glen Park - Glen Park Meeting Room
CLASS:PUBLIC
TRANSP:TRANSPARENT
END:VEVENT
BEGIN:VALARM
TRIGGER:-PT1440M
ACTION:DISPLAY
DESCRIPTION:Event Reminder - Social: Two-Hour Role-Playing Game
END:VALARM
END:VCALENDAR