BEGIN:VCALENDAR
VERSION:2.0
PRODID:SFPL Web Calendar
BEGIN:VEVENT
UID:77587@sfpl.org
DTSTAMP:20240103T210000Z
DTSTART:20240103T210000Z
DTEND:20240103T230000Z
SUMMARY:Activity: LEGO Motorcars
DESCRIPTION:<p>Make LEGO motorized cars by applying real-world concepts in physics and engineering.</p>

<p>For ages 7 and older. Space limited.</p>
LOCATION:Glen Park - Glen Park Meeting Room
CLASS:PUBLIC
TRANSP:TRANSPARENT
END:VEVENT
BEGIN:VALARM
TRIGGER:-PT1440M
ACTION:DISPLAY
DESCRIPTION:Event Reminder - Activity: LEGO Motorcars
END:VALARM
END:VCALENDAR