BEGIN:VCALENDAR
VERSION:2.0
PRODID:SFPL Web Calendar
BEGIN:VEVENT
UID:77609@sfpl.org
DTSTAMP:20231217T220000Z
DTSTART:20231217T220000Z
DTEND:20231217T233000Z
SUMMARY:Book Club: Marina Readers
DESCRIPTION:<p>We will be discussing<em>&nbsp;<a href="https://sfpl.bibliocommons.com/item/show/3889757093">Interior Chinatown</a> </em>by Charles Yu. Meetings are usually held&nbsp;the fourth Sunday of every month. This month we will meet on the third Sunday of the month, due to the holidays.</p>

<p><a href="https://sfpl.bibliocommons.com/list/share/388353987/1385570737">Marina Branch Book Club reading list</a></p>
LOCATION:Marina - Marina Back Courtyard
CLASS:PUBLIC
TRANSP:TRANSPARENT
END:VEVENT
BEGIN:VALARM
TRIGGER:-PT1440M
ACTION:DISPLAY
DESCRIPTION:Event Reminder - Book Club: Marina Readers
END:VALARM
END:VCALENDAR